BEGIN:VCALENDAR
VERSION:2.0
PRODID:-//РевмаШкола - ECPv6.15.20//NONSGML v1.0//EN
CALSCALE:GREGORIAN
METHOD:PUBLISH
X-ORIGINAL-URL:https://rheumaschool.ru
X-WR-CALDESC:Мероприятия для РевмаШкола
REFRESH-INTERVAL;VALUE=DURATION:PT1H
X-Robots-Tag:noindex
X-PUBLISHED-TTL:PT1H
BEGIN:VTIMEZONE
TZID:Europe/Moscow
BEGIN:STANDARD
TZOFFSETFROM:+0300
TZOFFSETTO:+0300
TZNAME:MSK
DTSTART:20240101T000000
END:STANDARD
END:VTIMEZONE
BEGIN:VEVENT
DTSTART;TZID=Europe/Moscow:20250306T160000
DTEND;TZID=Europe/Moscow:20250306T182000
DTSTAMP:20260419T221132
CREATED:20250127T192128Z
LAST-MODIFIED:20250311T190633Z
UID:15884-1741276800-1741285200@rheumaschool.ru
SUMMARY:ОСНОВЫ ТЕРАПИИ ПОДАГРЫ И СОПУТСТВУЮЩИХ ЗАБОЛЕВАНИЙ
DESCRIPTION:ОСНОВЫ ТЕРАПИИ ПОДАГРЫ И СОПУТСТВУЮЩИХ ЗАБОЛЕВАНИЙ\nВзаимосвязь между уровнем мочевой кислоты в сыворотке и хроническими заболеваниями привлекает в последнее время все больше внимания\, и становится актуальным для отдельных групп пациентов. Доказано\, что подагра развивается только у небольшой части лиц с гиперурикемией\, тогда как даже в растворённой форме мочевая кислота в случае повышения его уровня в крови отождествляется с риском сердечно-сосудистых заболеваний\, обменных нарушений\, болезней почек\, нарушением функции печени и\, возможно\, даже когнитивных нарушений. Доклады опытных специалистов лаборатории микрокристаллических артритов помогут обучающимся специалистам систематизировать знания\, обменяться профессиональными мнениями\, обсудить современные методы лечения подагры препаратами и нелекарственные варианты терапии у пациентов. По итогам мероприятия его участники смогут самостоятельно внедрять на практике изложенные в процессе обучения схемы применения определенных препаратов для лечения рассматриваемых назологий\, с учетом сопутствующих заболеваний\, а также определять эффективность их терапии. \nОргкомитет\, лекторский состав\n\nЕлисеев Максим Сергеевич \nврач-ревматолог\, президент медицинского фонда «Подагра-XXI век»\, заведующий лабораторией микрокристаллических артритов ФГБНУ НИИ ревматологии им. В.А. Насоновой\, к.м.н. (Москва) \n  \n\n \nЖелябина Ольга Владимировна \nврач-ревматолог\, научный сотрудник лаборатории микрокристаллических артритов ФГБНУ НИИ ревматологии им. В.А. Насоновой\, к.м.н. (Москва) \n\nРасписание конференции\n16:00-16:30 КЛАССИФИКАЦИОННЫЕ КРИТЕРИИ БОЛЕЗНИ ДЕПОНИРОВАНИЯ КРИСТАЛЛОВ ПИРОФОСФАТА КАЛЬЦИЯ https://disk.yandex.ru/i/PCvD0nbhPCrsWA\nаннотацияБолезнь депонирования кристаллов пирофосфата кальция — наиболее частая причина артрита у пациентов старческого возраста\, однако классификация и методы лечения таких больных изучены недостаточно\, а практическое применение лекарственных препаратов\, как правило ограничивается назначением противовоспалительных препаратов\, тогда как терапевтические возможности весьма широки\, а выбор препарата\, помимо оценки вероятности развития нежелательных лекарственных реакции\, должен быть обусловлен особенностями клинических проявлений недуга. в рамках лекции будут освещены основные алгоритмы подбора лекарственной терапии больным с болезнью депонирования кристаллов пирофосфата кальция\nЕлисеев Максим Сергеевичврач-ревматолог\, президент медицинского фонда «Подагра-XXI век»\, заведующий лабораторией микрокристаллических артритов ФГБНУ НИИ ревматологии им. В.А. Насоновой\, к.м.н.\n16:30-16:50 ЭФФЕКТИВНАЯ ТЕРАПИЯ СОПУТСТВУЮЩИХ ПОДАГРЕ ЗАБОЛЕВАНИЙ https://disk.yandex.ru/i/w9xbB3gewqJJdw\nаннотацияЛекция посвящена разбору влияния различных лекарственных препаратов\, часто назначаемых пациентам с подагрой с целью лечения сопутствующих заболеваний\, на клинические проявления\, течение и исходы подагры. Будут обсуждены гипотензивные\, сахароснижающие\, липидснижающие препараты\, антиагреганты и другие группы препаратов\, потенциально как полезных\, так и оказывающих негативное влияние на уратный обмен. Полученные знания позволят практикующим врачам различных специальностей дифференцированно подходить к выбору конкретного лекарственного средства при лечении коморбидных подагре заболеваний\nЕлисеев Максим Сергеевичврач-ревматолог\, президент медицинского фонда «Подагра-XXI век»\, заведующий лабораторией микрокристаллических артритов ФГБНУ НИИ ревматологии им. В.А. Насоновой\, к.м.н.\n16:50-17:20 ЭНДОКРИНОПАТИИ И ГИПЕРУРИКЕМИЯ: ПРИЧИНЫ И ОСОБЕННОСТИ ЛЕЧЕНИЯ https://disk.yandex.ru/i/OK4O_hmEPSjN5w\nаннотацияКлинические исследования показали связь между гиперурикемией и диабетом\, ожирением\, гипертонией\, хронической болезнью почек и другими заболеваниями. Также содержание витамина D3 связано с заболеваемостью диабетом у людей с высоким уровнем мочевой кислоты. Кроме того\, появляется все больше данных\, свидетельствующих о связи между гиперурикемией и метаболическим синдромом\, которые можно было бы использовать в качестве маркера для его прогнозирования. При этом хотя существуют четкие рекомендации по лечению подагры\, лечение бессимптомной гиперурикемии остается спорным. Международные клинические рекомендации\, за исключением японских руководств\, четко не определили лечение бессимптомной гиперурикемии. Обсуждение и понимание всех изученных методов влияния на уровень мочевой кислоты очень важно\, в первую очередь для применения в качестве безопасной профилактики сопутствующих заболеваний у пациентов с гиперурикемией с учетом возможных нежелательных последствий лечения\nЖелябина Ольга Владимировнаврач-ревматолог\, научный сотрудник лаборатории микрокристаллических артритов ФГБНУ НИИ ревматологии им. В.А. Насоновой\, к.м.н.\n17:20-17:40 Доклад при поддержке компании Мосфарма\, не входит в программу НМО и не обеспечивается баллами КОЛХИЦИН — ОТ ЯДА К ЛЕКАРСТВУ https://disk.yandex.ru/i/UfzKUdV0HlsTIQ\nаннотацияНаправленность лекции – всесторонний анализ реальных терапевтических возможностей колхицина как одного из препаратов первой линии терапии острого приступа артрита и профилактики обострений подагры. Освоение лекционного материала позволит повысить имеющиеся компетенции\, в частности\, изучить различные схемы назначения препарата\, минимизировать риски\, связанные с его практическим применением\nЕлисеев Максим Сергеевичврач-ревматолог\, президент медицинского фонда «Подагра-XXI век»\, заведующий лабораторией микрокристаллических артритов ФГБНУ НИИ ревматологии им. В.А. Насоновой\, к.м.н.\n17:40-18:10 ЕДА\, НАПИТКИ И ТРАВЫ: АЛЬТЕРНАТИВНЫЕ МЕТОДЫ ЛЕЧЕНИЯ ПОДАГРЫ https://disk.yandex.ru/i/WV2vTQQ0q0JiLQ\nаннотацияХотя диета не может считаться альтернативой медикаментозному лечению у большинства пациентов\, общепризнано первостепенное значение для эффективного ведения пациентов с подагрой. В последние два десятилетия некоторые постулаты диетотерапии\, применения иных немедикаментозных методов терапии при подагре и гиперурикемии подверглись ревизии\, ознакомлению с которыми задача данной лекции\nЖелябина Ольга Владимировнаврач-ревматолог\, научный сотрудник лаборатории микрокристаллических артритов ФГБНУ НИИ ревматологии им. В.А. Насоновой\, к.м.н.\n18:10-18:20 дискуссия\, вопросы и ответы\nУчастие бесплатное.\nЦелевая аудитория: гериатрия; ревматология; терапия; общая врачебная практика\, диетология \n Регистрация на мероприятие \n✅ Регистрация доступна на странице трансляции\, кнопка «ЗАРЕГИСТРИРОВАТЬСЯ» (возможна предварительная). \n☑ Всем предварительно зарегистрированным участникам на электронную почту будет отправлено напоминание о начале мероприятия. \n Методы учета присутствия участников \n❶ Регистрация участника онлайн на странице ОМ с присвоением автоматического цифрового идентификатора. \n❷ Контроль присутствия обучающихся проводится с помощью всплывающего окна\, без заранее известного слушателям интервала между проверками. \nОбучающимся необходимо отметить 3 из 4 предложенных контролей присутствия. \n Минимальный порог присутствия составляет 140 минут\, включая 20 мин лекцию Спонсора и дискуссию в конце ОМ. \nИнструмент для учета продолжительности просмотра — встроенная система статистики сайта pruffme.ru Обработка данных по статистике участия обучающихся в мероприятии автоматическая. \n Методы активного обучения \nДискуссии ведущих\, ответы на вопросы аудитории в чате и примеры клинических случаев \n Методы контроля полученных знаний: не предусмотрены \nДокументация по учебному мероприятию представлена в Комиссию по оценке учебных мероприятий и материалов для НМО https://www.sovetnmo.ru/conf_posts/74479.html \nКонтакты техподдержки: support@pruffme.com +7(800) 777 0914; +7(812) 309 9772 \nКонтакты провайдера: info@RheumaSchool.ru +7906 047 6216 ООО «Мединкон» \nНАШИ ПАРТНЁРЫ\nЗАО «Московская фармацевтическая фабрика» («МосФарма») — современное предприятие\, являющееся одним из ведущих российских фармацевтических производителей. Предприятие имеет многолетнюю историю становления и развития от небольшого производственного участка до современного промышленного производства с объемом выпуска продукции более 60 млн. упаковок в год и вносит значительный вклад в работу российской фармацевтической промышленности. \n Компания «Гринвуд» − эксклюзивный поставщик натуральных растительных препаратов\, производимых крупнейшими фармацевтическими фабриками Индонезии: Современное технологическое оборудование; Аккредитованные химико-биологические лаборатории; Соответствие продукции требованиям GMP; Микробиологический контроль продукции и производственных процессов; Наиболее известными среди потребителей и изученными в урологической практике являются следующие препараты: Пролит\, Урисан\, Золотой конек. 109074 Москва\, Славянская пл.\, д. 2/5/4\, стр. 3 Тел. (499) 501−76−04
URL:https://rheumaschool.ru/event/2025-03-06/
LOCATION:Онлайн
ATTACH;FMTTYPE=image/jpeg:https://rheumaschool.ru/wp-content/uploads/2025/01/Sajt-80-3.jpg
ORGANIZER;CN="%D0%9C%D0%B5%D0%B4%D0%B8%D1%86%D0%B8%D0%BD%D1%81%D0%BA%D0%B8%D0%B9 %D1%84%D0%BE%D0%BD%D0%B4 '%D0%9F%D0%BE%D0%B4%D0%B0%D0%B3%D1%80%D0%B0 %D0%B2 XXI %D0%B2%D0%B5%D0%BA%D0%B5'":MAILTO:info@podagra21.ru
END:VEVENT
END:VCALENDAR