BEGIN:VCALENDAR
VERSION:2.0
PRODID:-//РевмаШкола - ECPv6.15.20//NONSGML v1.0//EN
CALSCALE:GREGORIAN
METHOD:PUBLISH
X-WR-CALNAME:РевмаШкола
X-ORIGINAL-URL:https://rheumaschool.ru
X-WR-CALDESC:Мероприятия для РевмаШкола
REFRESH-INTERVAL;VALUE=DURATION:PT1H
X-Robots-Tag:noindex
X-PUBLISHED-TTL:PT1H
BEGIN:VTIMEZONE
TZID:Europe/Moscow
BEGIN:STANDARD
TZOFFSETFROM:+0300
TZOFFSETTO:+0300
TZNAME:MSK
DTSTART:20210101T000000
END:STANDARD
END:VTIMEZONE
BEGIN:VEVENT
DTSTART;TZID=Europe/Moscow:20220418T163000
DTEND;TZID=Europe/Moscow:20220418T173000
DTSTAMP:20260419T220946
CREATED:20220324T124730Z
LAST-MODIFIED:20220419T093942Z
UID:10646-1650299400-1650303000@rheumaschool.ru
SUMMARY:Пациент на приёме у ревматолога и гастроэнтеролога 📅 18.04.2022
DESCRIPTION:➀ 16:30-17:00\nБоли в суставах кистей. Дифференциальный диагноз\n🎓 Выставкина Елена Александровна\n🏥 ревматолог\, врач высшей категории ГБУ РО ОКБ №2\, ассистент кафедры функциональной диагностики\, ревматологии и кардиологии РостГМУ\, к.м.н. 🏁 Ростов-на-Дону \n \n\n\n \n➁ 17:00-17:30\nНПВП-гастропатия и «красные флаги» в гастроэнтерологии\n🎓 Ильяшенко Мария Георгиевна\n🏥 гастроэнтеролог\, заведующая отделом эндоскопии МБУЗ КДЦ «Здоровье»\, к.м.н. 🏁 Ростов-на-Дону
URL:https://rheumaschool.ru/event/2022-04-18/
LOCATION:Ростов-на-Дону\, Россия
ATTACH;FMTTYPE=image/jpeg:https://rheumaschool.ru/wp-content/uploads/2022/03/banner.jpg
ORGANIZER;CN="%D0%BC%D0%B5%D0%B4%D0%B8%D0%BD%D0%BA%D0%BE%D0%BD | medincon":MAILTO:info@medincon.ru
END:VEVENT
END:VCALENDAR